BEGIN:VCALENDAR
VERSION:2.0
PRODID:-//pretix//pretix.eu//
BEGIN:VTIMEZONE
TZID:Europe/Berlin
BEGIN:STANDARD
DTSTART:20001029T040000
RRULE:FREQ=YEARLY;BYDAY=-1SU;BYMONTH=10
TZNAME:CET
TZOFFSETFROM:+0200
TZOFFSETTO:+0100
END:STANDARD
BEGIN:DAYLIGHT
DTSTART:20000326T030000
RRULE:FREQ=YEARLY;BYDAY=-1SU;BYMONTH=3
TZNAME:CEST
TZOFFSETFROM:+0100
TZOFFSETTO:+0200
END:DAYLIGHT
END:VTIMEZONE
BEGIN:VEVENT
UID:pretix-neaausbildung-landespolizei-2596903@anmeldung.aubiboe.de
DTSTART;TZID=Europe/Berlin:20211011T140000
DTEND;TZID=Europe/Berlin:20211011T150000
DESCRIPTION:Tickets: https://anmeldung.aubiboe.de/landespolizei/2596903/\nV
 eranstalter: Ausbildungsplatz Börse
DTSTAMP:20260424T072327Z
SUMMARY:Bayerische Landespolizei Einstellungsberatung Ansbach
END:VEVENT
END:VCALENDAR
